BEGIN:VCALENDAR
VERSION:2.0
PRODID:-//Tukios.com/
BEGIN:VEVENT
UID:d142e02a-b6bd-4a87-83e1-74bb0ce1ebef@www.integrityfuneral.com
DTSTAMP:20260425T234432Z
DTSTART:20260429T160000Z
DTEND:20260429T170000Z
SUMMARY:Mass
DESCRIPTION:
URL:https://www.integrityfuneral.com/obituaries/selma-kehoe
LOCATION:St. Cecilia Catholic Church 11720 Joan of Arc Drive  Houston TX 
	77024
GEO:29.7788214;-95.5298029
END:VEVENT
END:VCALENDAR