BEGIN:VCALENDAR
VERSION:2.0
PRODID:-//Tukios.com/
BEGIN:VEVENT
UID:c4869d04-9bb4-494b-8b6c-5329119c915e@www.integrityfuneral.com
DTSTAMP:20260425T195016Z
DTSTART:20260501T160000Z
DTEND:20260501T170000Z
SUMMARY:Funeral Service
DESCRIPTION:
URL:https://www.integrityfuneral.com/obituaries/darren-robertson
LOCATION:St Francis Episcopal Church 345 Piney Point Rd  Houston TX 77024
GEO:29.7585606;-95.5179744
END:VEVENT
END:VCALENDAR